BEGIN:VCALENDAR
VERSION:2.0
PRODID:-//Squarespace Inc/Squarespace 6//v6//EN
BEGIN:VEVENT
UID:5531e04fe4b05a690b3a7825@squarespace.com
DTSTAMP:20150418T044142Z
DTSTART:20150418T050000Z
DTEND:20150418T060000Z
SUMMARY:Testing Item One - Shopping
END:VEVENT
END:VCALENDAR
